BEGIN:VCALENDAR
VERSION:2.0
PRODID:-//CHI - ECPv6.8.3//NONSGML v1.0//EN
CALSCALE:GREGORIAN
METHOD:PUBLISH
X-WR-CALNAME:CHI
X-ORIGINAL-URL:https://icoccaringhearts.org.ng
X-WR-CALDESC:Events for CHI
REFRESH-INTERVAL;VALUE=DURATION:PT1H
X-Robots-Tag:noindex
X-PUBLISHED-TTL:PT1H
BEGIN:VTIMEZONE
TZID:Africa/Lagos
BEGIN:STANDARD
TZOFFSETFROM:+0100
TZOFFSETTO:+0100
TZNAME:WAT
DTSTART:20220101T000000
END:STANDARD
END:VTIMEZONE
BEGIN:VEVENT
DTSTART;TZID=Africa/Lagos:20220130T100000
DTEND;TZID=Africa/Lagos:20220130T120000
DTSTAMP:20260421T184939
CREATED:20220114T012342Z
LAST-MODIFIED:20221202T195222Z
UID:18927-1643536800-1643544000@icoccaringhearts.org.ng
SUMMARY:Special Contribution for ICOC Caring Hearts Initiative
DESCRIPTION:A Special Contribution across the ICOC Nigeria to raise 30 Million Naira for the ICOC Caring Hearts Initiative for the purpose of increasing the number of beneficiaries from 77 in 2021 to 100 in 2022 \nTo make a donation\, please pay to: \nAccount Name: ICOC Caring Hearts Initiative \nAccount Number: 1214338015 \nBank: Zenith Bank
URL:https://icoccaringhearts.org.ng/event/special-contribution-for-icoc-caring-hearts-initiative/
LOCATION:ICOC Missions House\, Ikeja\, Lagos\, 1 Otunba Jobifele Way\, Lagos\, Lagos\, Nigeria
CATEGORIES:Fundraising
ATTACH;FMTTYPE=image/png:https://icoccaringhearts.org.ng/wp-content/uploads/2018/05/Benificiary.png
END:VEVENT
END:VCALENDAR